BEGIN:VCALENDAR
VERSION:2.0
PRODID:icalendar-ruby
CALSCALE:GREGORIAN
METHOD:PUBLISH
BEGIN:VEVENT
DTSTAMP:20260419T125446Z
UID:5-441139@centrevillebc.org
DTSTART:20260920T173000Z
DTEND:20260920T183000Z
CLASS:PUBLIC
CREATED:20260419T010602
DESCRIPTION:Sunday Worship
LAST-MODIFIED:20260419T010602
LOCATION:
SUMMARY:Sunday Worship
URL;VALUE=URI:https://www.centrevillebc.org/events/sunday-worship/2026-09-2
 0
END:VEVENT
END:VCALENDAR
