BEGIN:VCALENDAR
VERSION:2.0
PRODID:icalendar-ruby
CALSCALE:GREGORIAN
METHOD:PUBLISH
BEGIN:VEVENT
DTSTAMP:20260421T121231Z
UID:5-445038@centrevillebc.org
DTSTART:20261004T173000Z
DTEND:20261004T183000Z
CLASS:PUBLIC
CREATED:20260420T181944
DESCRIPTION:Sunday Worship
LAST-MODIFIED:20260420T181944
LOCATION:
SUMMARY:Sunday Worship
URL;VALUE=URI:https://www.centrevillebc.org/events/sunday-worship/2026-10-0
 4
END:VEVENT
END:VCALENDAR
