BEGIN:VCALENDAR
VERSION:2.0
PRODID:icalendar-ruby
CALSCALE:GREGORIAN
METHOD:PUBLISH
BEGIN:VEVENT
DTSTAMP:20260421T151947Z
UID:5-445690@centrevillebc.org
DTSTART:20261018T173000Z
DTEND:20261018T183000Z
CLASS:PUBLIC
CREATED:20260421T080242
DESCRIPTION:Sunday Worship
LAST-MODIFIED:20260421T080242
LOCATION:
SUMMARY:Sunday Worship
URL;VALUE=URI:https://www.centrevillebc.org/events/sunday-worship/2026-10-1
 8
END:VEVENT
END:VCALENDAR
