BEGIN:VCALENDAR
VERSION:2.0
PRODID:icalendar-ruby
CALSCALE:GREGORIAN
METHOD:PUBLISH
BEGIN:VEVENT
DTSTAMP:20260421T151254Z
UID:6-445745@centrevillebc.org
DTSTART:20260813T003000Z
DTEND:20260813T020000Z
CLASS:PUBLIC
CREATED:20260421T080243
DESCRIPTION:Children and Youth are invited to join us for a snack/meal at 5
 :30pm. After we eat\, Youth will go with Bro. Dustin for fellowship and Bi
 ble Study. Children will go to RA's and GA's.
LAST-MODIFIED:20260421T080243
LOCATION:CBC
SUMMARY:Youth and Children's Ministries
URL;VALUE=URI:https://www.centrevillebc.org/events/youth-and-childrens-mini
 stries/2026-08-12
END:VEVENT
END:VCALENDAR
