BEGIN:VCALENDAR
VERSION:2.0
PRODID:icalendar-ruby
CALSCALE:GREGORIAN
METHOD:PUBLISH
BEGIN:VEVENT
DTSTAMP:20260421T192304Z
UID:6-446072@centrevillebc.org
DTSTART:20260827T003000Z
DTEND:20260827T020000Z
CLASS:PUBLIC
CREATED:20260421T104301
DESCRIPTION:Children and Youth are invited to join us for a snack/meal at 5
 :30pm. After we eat\, Youth will go with Bro. Dustin for fellowship and Bi
 ble Study. Children will go to RA's and GA's.
LAST-MODIFIED:20260421T104301
LOCATION:CBC
SUMMARY:Youth and Children's Ministries
URL;VALUE=URI:https://www.centrevillebc.org/events/youth-and-childrens-mini
 stries/2026-08-26
END:VEVENT
END:VCALENDAR
